BEGIN:VCALENDAR
VERSION:2.0
PRODID:-//G.D. Goenka International School Rohtak - ECPv6.13.2.1//NONSGML v1.0//EN
CALSCALE:GREGORIAN
METHOD:PUBLISH
X-ORIGINAL-URL:https://gdgoenkarohtak.com
X-WR-CALDESC:Events for G.D. Goenka International School Rohtak
REFRESH-INTERVAL;VALUE=DURATION:PT1H
X-Robots-Tag:noindex
X-PUBLISHED-TTL:PT1H
BEGIN:VTIMEZONE
TZID:Asia/Kolkata
BEGIN:STANDARD
TZOFFSETFROM:+0530
TZOFFSETTO:+0530
TZNAME:IST
DTSTART:20230101T000000
END:STANDARD
END:VTIMEZONE
BEGIN:VTIMEZONE
TZID:Asia/Kolkata
BEGIN:STANDARD
TZOFFSETFROM:+0530
TZOFFSETTO:+0530
TZNAME:IST
DTSTART:20200101T000000
END:STANDARD
END:VTIMEZONE
BEGIN:VTIMEZONE
TZID:UTC
BEGIN:STANDARD
TZOFFSETFROM:+0000
TZOFFSETTO:+0000
TZNAME:UTC
DTSTART:20200101T000000
END:STANDARD
END:VTIMEZONE
BEGIN:VEVENT
DTSTART;TZID=Asia/Kolkata:20230512T080000
DTEND;TZID=Asia/Kolkata:20230512T123000
DTSTAMP:20260425T162257
CREATED:20230504T081750Z
LAST-MODIFIED:20230504T081750Z
UID:7785-1683878400-1683894600@gdgoenkarohtak.com
SUMMARY:INTER SCHOOL - POOL PARTY (IV- VI)
DESCRIPTION:
URL:https://gdgoenkarohtak.com/event/inter-school-pool-party-iv-vi/
END:VEVENT
BEGIN:VEVENT
DTSTART;TZID=Asia/Kolkata:20230508T080000
DTEND;TZID=Asia/Kolkata:20230508T123000
DTSTAMP:20260425T162257
CREATED:20230504T081703Z
LAST-MODIFIED:20230504T081703Z
UID:7783-1683532800-1683549000@gdgoenkarohtak.com
SUMMARY:ROLE PLAY ON ANIMAL ACTIVITY (NUR-KG)
DESCRIPTION:
URL:https://gdgoenkarohtak.com/event/role-play-on-animal-activity-nur-kg/
END:VEVENT
BEGIN:VEVENT
DTSTART;TZID=Asia/Kolkata:20230506T090000
DTEND;TZID=Asia/Kolkata:20230506T120000
DTSTAMP:20260425T162257
CREATED:20230504T081533Z
LAST-MODIFIED:20230504T081623Z
UID:7780-1683363600-1683374400@gdgoenkarohtak.com
SUMMARY:INTER SCHOOL SPELL BEE COMP. (IV-VI)\, INTER SCHOOL SKATING COMPETITION (GRADE- IV TO VI)
DESCRIPTION:
URL:https://gdgoenkarohtak.com/event/inter-school-spell-bee-comp-iv-vi-inter-school-skating-competition-grade-iv-to-vi/
END:VEVENT
BEGIN:VEVENT
DTSTART;VALUE=DATE:20201221
DTEND;VALUE=DATE:20201226
DTSTAMP:20260425T162257
CREATED:20210108T011443Z
LAST-MODIFIED:20210108T093209Z
UID:6946-1608508800-1608940799@gdgoenkarohtak.com
SUMMARY:Christmas Carnival 2020
DESCRIPTION:The most exciting X-mas Carnival in the town will be held in G.D. Goenka Jr. Wing\, Rohtak. Students till Grade 5th can participate in the event. The activities will take place from 21st to 25th Dec. between 1 pm to 4 pm. There will be Free Entry. Those who want to participate\, please fill the registration form.
URL:https://gdgoenkarohtak.com/event/christmas-carnival-2020/
LOCATION:G.D. Goenka Jr. Wing\, Rohtak\, G.D. Goenka Jr. Wing\, Rohtak\, India
CATEGORIES:G.D. Goenka
ATTACH;FMTTYPE=image/jpeg:https://gdgoenkarohtak.com/wp-content/uploads/2021/01/WhatsApp-Image-2020-12-07-at-8.36.52-AM.jpeg
ORGANIZER;CN="G.D. Goenka Club":MAILTO:info@gdgoenkarohtak.com
END:VEVENT
BEGIN:VEVENT
DTSTART;TZID=UTC:20201212T090000
DTEND;TZID=UTC:20201212T170000
DTSTAMP:20260425T162257
CREATED:20210108T012107Z
LAST-MODIFIED:20210108T012415Z
UID:6951-1607763600-1607792400@gdgoenkarohtak.com
SUMMARY:Super Mom 2020
DESCRIPTION:A “Super Mom” contest will be held in G.D. Goenka Jr. Wing Rohtak.\nHere are the details:\nRounds:\n1st- Ramp walk & Introduction\n2nd- Judges question-answer\n3rd- Talent round \nEntre Fee- 50Rs. \nLast date of registration- Dec. 12\, 2020. For registration WhatsApp on 8222871819. Limited Seats. hurry Up!
URL:https://gdgoenkarohtak.com/event/super-mom-2020/
LOCATION:G.D. Goenka Jr. Wing\, Rohtak\, G.D. Goenka Jr. Wing\, Rohtak\, India
CATEGORIES:G.D. Goenka
ATTACH;FMTTYPE=image/jpeg:https://gdgoenkarohtak.com/wp-content/uploads/2021/01/WhatsApp-Image-2020-12-04-at-10.16.31-PM.jpeg
ORGANIZER;CN="G.D. Goenka Club":MAILTO:info@gdgoenkarohtak.com
END:VEVENT
END:VCALENDAR