BEGIN:VCALENDAR
VERSION:2.0
PRODID:-//G.D. Goenka International School Rohtak - ECPv6.13.2.1//NONSGML v1.0//EN
CALSCALE:GREGORIAN
METHOD:PUBLISH
X-ORIGINAL-URL:https://gdgoenkarohtak.com
X-WR-CALDESC:Events for G.D. Goenka International School Rohtak
REFRESH-INTERVAL;VALUE=DURATION:PT1H
X-Robots-Tag:noindex
X-PUBLISHED-TTL:PT1H
BEGIN:VTIMEZONE
TZID:Asia/Kolkata
BEGIN:STANDARD
TZOFFSETFROM:+0530
TZOFFSETTO:+0530
TZNAME:IST
DTSTART:20240101T000000
END:STANDARD
END:VTIMEZONE
BEGIN:VEVENT
DTSTART;TZID=Asia/Kolkata:20250823T090000
DTEND;TZID=Asia/Kolkata:20250823T130000
DTSTAMP:20260425T053955
CREATED:20250819T061817Z
LAST-MODIFIED:20250819T061817Z
UID:9282-1755939600-1755954000@gdgoenkarohtak.com
SUMMARY:Parent-Teacher Meeting (PTM) and Ganesh Chaturthi Celebration
DESCRIPTION:
URL:https://gdgoenkarohtak.com/event/parent-teacher-meeting-ptm-and-ganesh-chaturthi-celebration/
END:VEVENT
BEGIN:VEVENT
DTSTART;TZID=Asia/Kolkata:20250814T083000
DTEND;TZID=Asia/Kolkata:20250814T140000
DTSTAMP:20260425T053955
CREATED:20250804T050426Z
LAST-MODIFIED:20250804T050426Z
UID:9266-1755160200-1755180000@gdgoenkarohtak.com
SUMMARY:Independence Day & Janmashtami Celebration
DESCRIPTION:
URL:https://gdgoenkarohtak.com/event/independence-day-janmashtami-celebration/
END:VEVENT
BEGIN:VEVENT
DTSTART;TZID=Asia/Kolkata:20250812T083000
DTEND;TZID=Asia/Kolkata:20250812T140000
DTSTAMP:20260425T053955
CREATED:20250804T050233Z
LAST-MODIFIED:20250804T050233Z
UID:9264-1754987400-1755007200@gdgoenkarohtak.com
SUMMARY:Special Assembly (Int. Youth Day)
DESCRIPTION:
URL:https://gdgoenkarohtak.com/event/special-assembly-int-youth-day/
END:VEVENT
BEGIN:VEVENT
DTSTART;TZID=Asia/Kolkata:20250808T083000
DTEND;TZID=Asia/Kolkata:20250812T140000
DTSTAMP:20260425T053955
CREATED:20250804T045931Z
LAST-MODIFIED:20250804T050039Z
UID:9262-1754641800-1755007200@gdgoenkarohtak.com
SUMMARY:Rakhi Making Activity (Pre-Nursery - 2nd)
DESCRIPTION:
URL:https://gdgoenkarohtak.com/event/rakhi-making-activity-pre-nursery-2nd/
END:VEVENT
BEGIN:VEVENT
DTSTART;TZID=Asia/Kolkata:20250804T083000
DTEND;TZID=Asia/Kolkata:20250804T140000
DTSTAMP:20260425T053955
CREATED:20250804T045836Z
LAST-MODIFIED:20250804T045836Z
UID:9260-1754296200-1754316000@gdgoenkarohtak.com
SUMMARY:Watermelon Day (Pre-Nursery - 1st Grade)
DESCRIPTION:
URL:https://gdgoenkarohtak.com/event/watermelon-day-pre-nursery-1st-grade/
END:VEVENT
BEGIN:VEVENT
DTSTART;TZID=Asia/Kolkata:20250726T083000
DTEND;TZID=Asia/Kolkata:20250726T140000
DTSTAMP:20260425T053955
CREATED:20250718T085944Z
LAST-MODIFIED:20250718T090234Z
UID:9251-1753518600-1753538400@gdgoenkarohtak.com
SUMMARY:Kargil Vijay Diwas + Hariyali Teej Celebration (Grade 5 to 9)
DESCRIPTION:
URL:https://gdgoenkarohtak.com/event/kargil-vijay-diwas-hariyali-teej-celebration-grade-5-to-9/
END:VEVENT
BEGIN:VEVENT
DTSTART;TZID=Asia/Kolkata:20250722T083000
DTEND;TZID=Asia/Kolkata:20250722T140000
DTSTAMP:20260425T053955
CREATED:20250718T085844Z
LAST-MODIFIED:20250718T090212Z
UID:9249-1753173000-1753192800@gdgoenkarohtak.com
SUMMARY:Hand Writing Competition (Grade 1-5)
DESCRIPTION:
URL:https://gdgoenkarohtak.com/event/hand-writing-competition-grade-1-5/
END:VEVENT
BEGIN:VEVENT
DTSTART;TZID=Asia/Kolkata:20250719T083000
DTEND;TZID=Asia/Kolkata:20250719T140000
DTSTAMP:20260425T053955
CREATED:20250703T040805Z
LAST-MODIFIED:20250718T090144Z
UID:9234-1752913800-1752933600@gdgoenkarohtak.com
SUMMARY:Mango Day Celebration
DESCRIPTION:
URL:https://gdgoenkarohtak.com/event/mango-day-celebration/
END:VEVENT
BEGIN:VEVENT
DTSTART;TZID=Asia/Kolkata:20250711T080000
DTEND;TZID=Asia/Kolkata:20250711T170000
DTSTAMP:20260425T053955
CREATED:20250703T040740Z
LAST-MODIFIED:20250703T040740Z
UID:9232-1752220800-1752253200@gdgoenkarohtak.com
SUMMARY:Inter-House English Debate Competition
DESCRIPTION:
URL:https://gdgoenkarohtak.com/event/inter-house-english-debate-competition/
END:VEVENT
BEGIN:VEVENT
DTSTART;TZID=Asia/Kolkata:20250710T080000
DTEND;TZID=Asia/Kolkata:20250710T170000
DTSTAMP:20260425T053955
CREATED:20250703T040723Z
LAST-MODIFIED:20250703T040723Z
UID:9230-1752134400-1752166800@gdgoenkarohtak.com
SUMMARY:Special Assembly on Guru Purnima
DESCRIPTION:
URL:https://gdgoenkarohtak.com/event/special-assembly-on-guru-purnima/
END:VEVENT
BEGIN:VEVENT
DTSTART;TZID=Asia/Kolkata:20250707T080000
DTEND;TZID=Asia/Kolkata:20250707T170000
DTSTAMP:20260425T053955
CREATED:20250703T040702Z
LAST-MODIFIED:20250703T040702Z
UID:9228-1751875200-1751907600@gdgoenkarohtak.com
SUMMARY:Special Assembly on Global Forgiveness Day
DESCRIPTION:
URL:https://gdgoenkarohtak.com/event/special-assembly-on-global-forgiveness-day/
END:VEVENT
BEGIN:VEVENT
DTSTART;TZID=Asia/Kolkata:20250601T000000
DTEND;TZID=Asia/Kolkata:20250701T000000
DTSTAMP:20260425T053955
CREATED:20250530T042426Z
LAST-MODIFIED:20250530T042505Z
UID:9171-1748736000-1751328000@gdgoenkarohtak.com
SUMMARY:Summer Vacation
DESCRIPTION:
URL:https://gdgoenkarohtak.com/event/summer-vacation/
END:VEVENT
BEGIN:VEVENT
DTSTART;TZID=Asia/Kolkata:20250531T100000
DTEND;TZID=Asia/Kolkata:20250531T140000
DTSTAMP:20260425T053955
CREATED:20250520T044021Z
LAST-MODIFIED:20250522T060948Z
UID:9164-1748685600-1748700000@gdgoenkarohtak.com
SUMMARY:Parents Teacher Meeting
DESCRIPTION:
URL:https://gdgoenkarohtak.com/event/parents-teacher-meeting/
END:VEVENT
BEGIN:VEVENT
DTSTART;TZID=Asia/Kolkata:20250512T080000
DTEND;TZID=Asia/Kolkata:20250512T170000
DTSTAMP:20260425T053955
CREATED:20250520T043908Z
LAST-MODIFIED:20250520T043908Z
UID:9162-1747036800-1747069200@gdgoenkarohtak.com
SUMMARY:Buddha Purnima
DESCRIPTION:
URL:https://gdgoenkarohtak.com/event/buddha-purnima/
END:VEVENT
BEGIN:VEVENT
DTSTART;TZID=Asia/Kolkata:20250511T080000
DTEND;TZID=Asia/Kolkata:20250511T170000
DTSTAMP:20260425T053955
CREATED:20250520T043806Z
LAST-MODIFIED:20250520T043806Z
UID:9160-1746950400-1746982800@gdgoenkarohtak.com
SUMMARY:Mother's Day Celebration
DESCRIPTION:
URL:https://gdgoenkarohtak.com/event/mothers-day-celebration-2/
END:VEVENT
BEGIN:VEVENT
DTSTART;TZID=Asia/Kolkata:20250509T080000
DTEND;TZID=Asia/Kolkata:20250509T170000
DTSTAMP:20260425T053955
CREATED:20250520T043720Z
LAST-MODIFIED:20250520T043720Z
UID:9158-1746777600-1746810000@gdgoenkarohtak.com
SUMMARY:Maharana Pratap Jayanti
DESCRIPTION:
URL:https://gdgoenkarohtak.com/event/maharana-pratap-jayanti/
END:VEVENT
BEGIN:VEVENT
DTSTART;TZID=Asia/Kolkata:20250507T080000
DTEND;TZID=Asia/Kolkata:20250507T170000
DTSTAMP:20260425T053955
CREATED:20250520T043641Z
LAST-MODIFIED:20250520T043641Z
UID:9156-1746604800-1746637200@gdgoenkarohtak.com
SUMMARY:Rabindranath Tagore Jayanti
DESCRIPTION:
URL:https://gdgoenkarohtak.com/event/rabindranath-tagore-jayanti/
END:VEVENT
BEGIN:VEVENT
DTSTART;TZID=Asia/Kolkata:20250412T100000
DTEND;TZID=Asia/Kolkata:20250412T120000
DTSTAMP:20260425T053955
CREATED:20250413T065815Z
LAST-MODIFIED:20250413T065815Z
UID:9122-1744452000-1744459200@gdgoenkarohtak.com
SUMMARY:Baisakhi Celebration
DESCRIPTION:
URL:https://gdgoenkarohtak.com/event/baisakhi-celebration-2/
END:VEVENT
BEGIN:VEVENT
DTSTART;TZID=Asia/Kolkata:20250331T100000
DTEND;TZID=Asia/Kolkata:20250331T140000
DTSTAMP:20260425T053955
CREATED:20250322T064709Z
LAST-MODIFIED:20250322T064709Z
UID:9107-1743415200-1743429600@gdgoenkarohtak.com
SUMMARY:Parent Teacher Meeting ( Grade Nursery-K.G-1st-2nd)
DESCRIPTION:
URL:https://gdgoenkarohtak.com/event/parent-teacher-meeting-grade-nursery-k-g-1st-2nd/
END:VEVENT
BEGIN:VEVENT
DTSTART;TZID=Asia/Kolkata:20250330T100000
DTEND;TZID=Asia/Kolkata:20250330T140000
DTSTAMP:20260425T053955
CREATED:20250322T064528Z
LAST-MODIFIED:20250322T064528Z
UID:9105-1743328800-1743343200@gdgoenkarohtak.com
SUMMARY:Parent Teacher Meeting ( Grade 3-4-5-6th)
DESCRIPTION:
URL:https://gdgoenkarohtak.com/event/parent-teacher-meeting-grade-3-4-5-6th/
END:VEVENT
BEGIN:VEVENT
DTSTART;TZID=Asia/Kolkata:20250329T100000
DTEND;TZID=Asia/Kolkata:20250329T140000
DTSTAMP:20260425T053955
CREATED:20250322T062707Z
LAST-MODIFIED:20250322T064605Z
UID:9101-1743242400-1743256800@gdgoenkarohtak.com
SUMMARY:Parent Teacher Meeting ( Grade 7-8-9-11th)
DESCRIPTION:
URL:https://gdgoenkarohtak.com/event/parent-teacher-meeting/
END:VEVENT
BEGIN:VEVENT
DTSTART;TZID=Asia/Kolkata:20250313T080000
DTEND;TZID=Asia/Kolkata:20250313T170000
DTSTAMP:20260425T053955
CREATED:20250322T060527Z
LAST-MODIFIED:20250322T060527Z
UID:9099-1741852800-1741885200@gdgoenkarohtak.com
SUMMARY:Holi Celebration
DESCRIPTION:
URL:https://gdgoenkarohtak.com/event/holi-celebration/
END:VEVENT
BEGIN:VEVENT
DTSTART;TZID=Asia/Kolkata:20250226T080000
DTEND;TZID=Asia/Kolkata:20250226T170000
DTSTAMP:20260425T053955
CREATED:20250205T050057Z
LAST-MODIFIED:20250205T050057Z
UID:9089-1740556800-1740589200@gdgoenkarohtak.com
SUMMARY:Maha Shivratri
DESCRIPTION:
URL:https://gdgoenkarohtak.com/event/maha-shivratri/
END:VEVENT
BEGIN:VEVENT
DTSTART;TZID=Asia/Kolkata:20250208T080000
DTEND;TZID=Asia/Kolkata:20250208T170000
DTSTAMP:20260425T053955
CREATED:20250205T050018Z
LAST-MODIFIED:20250205T050018Z
UID:9087-1739001600-1739034000@gdgoenkarohtak.com
SUMMARY:Farewell Party
DESCRIPTION:
URL:https://gdgoenkarohtak.com/event/farewell-party/
END:VEVENT
BEGIN:VEVENT
DTSTART;TZID=Asia/Kolkata:20250131T080000
DTEND;TZID=Asia/Kolkata:20250131T170000
DTSTAMP:20260425T053955
CREATED:20250104T082833Z
LAST-MODIFIED:20250104T082833Z
UID:9073-1738310400-1738342800@gdgoenkarohtak.com
SUMMARY:INTRODUCTION OF NEW CLASS
DESCRIPTION:
URL:https://gdgoenkarohtak.com/event/introduction-of-new-class/
END:VEVENT
BEGIN:VEVENT
DTSTART;TZID=Asia/Kolkata:20250126T080000
DTEND;TZID=Asia/Kolkata:20250126T170000
DTSTAMP:20260425T053955
CREATED:20250104T082806Z
LAST-MODIFIED:20250104T082806Z
UID:9071-1737878400-1737910800@gdgoenkarohtak.com
SUMMARY:Republic Day
DESCRIPTION:
URL:https://gdgoenkarohtak.com/event/republic-day/
END:VEVENT
BEGIN:VEVENT
DTSTART;TZID=Asia/Kolkata:20250116T080000
DTEND;TZID=Asia/Kolkata:20250116T170000
DTSTAMP:20260425T053955
CREATED:20250104T082724Z
LAST-MODIFIED:20250104T082724Z
UID:9069-1737014400-1737046800@gdgoenkarohtak.com
SUMMARY:Inter House Dance Competition
DESCRIPTION:
URL:https://gdgoenkarohtak.com/event/inter-house-dance-competition/
END:VEVENT
BEGIN:VEVENT
DTSTART;TZID=Asia/Kolkata:20241225T080000
DTEND;TZID=Asia/Kolkata:20241225T170000
DTSTAMP:20260425T053955
CREATED:20241207T053012Z
LAST-MODIFIED:20241207T053012Z
UID:8943-1735113600-1735146000@gdgoenkarohtak.com
SUMMARY:Christmas Day
DESCRIPTION:
URL:https://gdgoenkarohtak.com/event/christmas-day/
END:VEVENT
BEGIN:VEVENT
DTSTART;TZID=Asia/Kolkata:20241217T080000
DTEND;TZID=Asia/Kolkata:20241217T170000
DTSTAMP:20260425T053955
CREATED:20241207T052935Z
LAST-MODIFIED:20241207T052935Z
UID:8941-1734422400-1734454800@gdgoenkarohtak.com
SUMMARY:Church Visit
DESCRIPTION:
URL:https://gdgoenkarohtak.com/event/church-visit/
END:VEVENT
BEGIN:VEVENT
DTSTART;TZID=Asia/Kolkata:20241213T080000
DTEND;TZID=Asia/Kolkata:20241213T170000
DTSTAMP:20260425T053955
CREATED:20241207T052904Z
LAST-MODIFIED:20241207T052904Z
UID:8939-1734076800-1734109200@gdgoenkarohtak.com
SUMMARY:Inter House Board Decoration Competition/ PRE BOARD -2
DESCRIPTION:
URL:https://gdgoenkarohtak.com/event/inter-house-board-decoration-competition-pre-board-2/
END:VEVENT
END:VCALENDAR